BEGIN:VCALENDAR
VERSION:2.0
PRODID:-//https://www.havasurealtors.com//NONSGML kigkonsult.se iCalcreator 2.41.71//
CALSCALE:GREGORIAN
METHOD:PUBLISH
UID:32653937-6639-4336-b465-333030613335
X-WR-CALNAME:JCal Pro Calendar
X-WR-CALDESC:Your online events calendar
X-WR-TIMEZONE:America/Phoenix
BEGIN:VTIMEZONE
TZID:America/Phoenix
BEGIN:STANDARD
TZNAME:MST
DTSTART:20240720T081252
TZOFFSETFROM:+0000
TZOFFSETTO:-0700
END:STANDARD
END:VTIMEZONE
BEGIN:VEVENT
UID:20260525T150000UTC-1037Dk5DdH@https://havasurealtors.com/
DTSTAMP:20260421T081252Z
CATEGORIES:Holidays
DTSTART;TZID=America/Phoenix:20260525T000000
DTEND;TZID=America/Phoenix:20260525T235959
SUMMARY:Association Office Closed - Memorial Day
URL:https://www.havasurealtors.com/monthly-calendar-calendar-menu/196-holid
 ays-calendar-category/5098-association-office-closed-memorial-day.html
END:VEVENT
BEGIN:VEVENT
UID:20260107T081500UTC-0584WaCREV@https://havasurealtors.com/
DTSTAMP:20260421T081252Z
CATEGORIES:MLS Tour Meetings
DTSTART;TZID=America/Phoenix:20260527T083000
DTEND;TZID=America/Phoenix:20260527T083000
SUMMARY:Wednesday Market Mixer - South
URL:https://www.havasurealtors.com/monthly-calendar-calendar-menu/189-meeti
 ngs-calendar-category/193-mls-tour-meetings-calendar-category/4955-mls-tou
 r-south-area.html
END:VEVENT
END:VCALENDAR
