BEGIN:VCALENDAR
VERSION:2.0
PRODID:-//https://www.havasurealtors.com//NONSGML kigkonsult.se iCalcreator 2.41.71//
CALSCALE:GREGORIAN
METHOD:PUBLISH
UID:39393839-6265-4039-a535-306661313036
X-WR-CALNAME:JCal Pro Calendar
X-WR-CALDESC:Your online events calendar
X-WR-TIMEZONE:America/Phoenix
BEGIN:VTIMEZONE
TZID:America/Phoenix
BEGIN:STANDARD
TZNAME:MST
DTSTART:20240723T234712
TZOFFSETFROM:+0000
TZOFFSETTO:-0700
END:STANDARD
END:VTIMEZONE
BEGIN:VEVENT
UID:20260113T090000UTC-3071ePRMOF@https://havasurealtors.com/
DTSTAMP:20260424T234712Z
CATEGORIES:Board of Directors
DTSTART;TZID=America/Phoenix:20260113T090000
DTEND;TZID=America/Phoenix:20260113T100000
RRULE:FREQ=MONTHLY;UNTIL=20261231T070000Z;INTERVAL=1;BYDAY=TU;BYSETPOS=2
SUMMARY:Executive Committee Meeting
URL:https://www.havasurealtors.com/this-week-calendar-menu/189-meetings-cal
 endar-category/194-committee-meetings-calendar-cateogory/268-board-of-dire
 ctors/4987-executive-committee-meeting.html
END:VEVENT
BEGIN:VEVENT
UID:20260107T081500UTC-0584WaCREV@https://havasurealtors.com/
DTSTAMP:20260424T234712Z
CATEGORIES:MLS Tour Meetings
DTSTART;TZID=America/Phoenix:20260513T083000
DTEND;TZID=America/Phoenix:20260513T083000
SUMMARY:Wednesday Market Mixer - South
URL:https://www.havasurealtors.com/this-week-calendar-menu/189-meetings-cal
 endar-category/193-mls-tour-meetings-calendar-category/5317-mls-tour-south
 -area.html
END:VEVENT
BEGIN:VEVENT
UID:20250605T090000UTC-8240AeuiUk@https://havasurealtors.com/
DTSTAMP:20260424T234712Z
CATEGORIES:Non-credited Classes
DTSTART;TZID=America/Phoenix:20260514T090000
DTEND;TZID=America/Phoenix:20260514T110000
SUMMARY:Flex MLS Training (New Member Requirement)
URL:https://www.havasurealtors.com/this-week-calendar-menu/259-education-cl
 asses/185-non-credited-classes-calendar-category/5352-flex-mls-training-ne
 w-member-requirement-zoom-2.html
END:VEVENT
END:VCALENDAR
