BEGIN:VCALENDAR
VERSION:2.0
PRODID:-//https://www.havasurealtors.com//NONSGML kigkonsult.se iCalcreator 2.41.71//
CALSCALE:GREGORIAN
METHOD:PUBLISH
UID:66386334-6533-4365-b961-663632303137
X-WR-CALNAME:JCal Pro Calendar
X-WR-CALDESC:Your online events calendar
X-WR-TIMEZONE:America/Phoenix
BEGIN:VTIMEZONE
TZID:America/Phoenix
BEGIN:STANDARD
TZNAME:MST
DTSTART:20240725T031823
TZOFFSETFROM:+0000
TZOFFSETTO:-0700
END:STANDARD
END:VTIMEZONE
BEGIN:VEVENT
UID:20261016T160000UTC-06761UUd29@https://havasurealtors.com/
DTSTAMP:20260426T031823Z
CATEGORIES:Rentals
DTSTART;TZID=America/Phoenix:20261016T160000
DTEND;TZID=America/Phoenix:20261018T235900
SUMMARY:Rental (Wiesner)
URL:https://www.havasurealtors.com/this-week-calendar-menu/258-rentals/5237
 -rental-wiesner.html
END:VEVENT
BEGIN:VEVENT
UID:20260120T090000UTC-0829tEgKLU@https://havasurealtors.com/
DTSTAMP:20260426T031823Z
CATEGORIES:Board of Directors
DTSTART;TZID=America/Phoenix:20260120T090000
DTEND;TZID=America/Phoenix:20260120T100000
RRULE:FREQ=MONTHLY;UNTIL=20261231T070000Z;INTERVAL=1;BYDAY=TU;BYSETPOS=3
SUMMARY:Board of Directors Meeting
URL:https://www.havasurealtors.com/this-week-calendar-menu/189-meetings-cal
 endar-category/194-committee-meetings-calendar-cateogory/268-board-of-dire
 ctors/4999-board-of-directors-meeting.html
END:VEVENT
BEGIN:VEVENT
UID:20260107T081500UTC-0584WaCREV@https://havasurealtors.com/
DTSTAMP:20260426T031823Z
CATEGORIES:MLS Tour Meetings
DTSTART;TZID=America/Phoenix:20261021T083000
DTEND;TZID=America/Phoenix:20261021T083000
SUMMARY:Wednesday Market Mixer
URL:https://www.havasurealtors.com/this-week-calendar-menu/189-meetings-cal
 endar-category/193-mls-tour-meetings-calendar-category/4976-mls-tour-south
 -area.html
END:VEVENT
END:VCALENDAR
