BEGIN:VCALENDAR
VERSION:2.0
PRODID:-//https://www.havasurealtors.com//NONSGML kigkonsult.se iCalcreator 2.41.71//
CALSCALE:GREGORIAN
METHOD:PUBLISH
UID:31336165-6334-4664-b135-376239306634
X-WR-CALNAME:JCal Pro Calendar
X-WR-CALDESC:Your online events calendar
X-WR-TIMEZONE:America/Phoenix
BEGIN:VTIMEZONE
TZID:America/Phoenix
BEGIN:STANDARD
TZNAME:MST
DTSTART:20240718T180129
TZOFFSETFROM:+0000
TZOFFSETTO:-0700
END:STANDARD
END:VTIMEZONE
BEGIN:VEVENT
UID:20230118T080000MST-3075adsrjz@https://lhsuiws.rapams.com/
DTSTAMP:20260419T180129Z
CATEGORIES:MLS Tour Meetings
DTSTART;TZID=America/Phoenix:20230705T080000
DTEND;TZID=America/Phoenix:20230705T090000
SUMMARY:Cancelled - MLS Tour
URL:https://www.havasurealtors.com/this-week-calendar-menu/189-meetings-cal
 endar-category/193-mls-tour-meetings-calendar-category/3741-mls-tour-centr
 al-area.html
END:VEVENT
END:VCALENDAR
