BEGIN:VCALENDAR
VERSION:2.0
PRODID:-//https://www.havasurealtors.com//NONSGML kigkonsult.se iCalcreator 2.41.71//
CALSCALE:GREGORIAN
METHOD:PUBLISH
UID:31306264-3263-4130-b439-346235643230
X-WR-CALNAME:JCal Pro Calendar
X-WR-CALDESC:Your online events calendar
X-WR-TIMEZONE:America/Phoenix
BEGIN:VTIMEZONE
TZID:America/Phoenix
BEGIN:STANDARD
TZNAME:MST
DTSTART:20240722T201627
TZOFFSETFROM:+0000
TZOFFSETTO:-0700
END:STANDARD
END:VTIMEZONE
BEGIN:VEVENT
UID:20260101T090000UTC-1610dPGpxE@https://havasurealtors.com/
DTSTAMP:20260423T201627Z
CATEGORIES:Holidays
DTSTART;TZID=America/Phoenix:20260101T000000
DTEND;TZID=America/Phoenix:20260101T235959
SUMMARY:Association Office Closed - New Years Day
URL:https://www.havasurealtors.com/this-week-calendar-menu/196-holidays-cal
 endar-category/5021-association-office-closed-new-years-day.html
END:VEVENT
END:VCALENDAR
