BEGIN:VCALENDAR
VERSION:2.0
PRODID:-//https://www.havasurealtors.com//NONSGML kigkonsult.se iCalcreator 2.41.71//
CALSCALE:GREGORIAN
METHOD:PUBLISH
UID:30343964-6333-4835-b063-643038346537
X-WR-CALNAME:JCal Pro Calendar
X-WR-CALDESC:Your online events calendar
X-WR-TIMEZONE:America/Phoenix
BEGIN:VTIMEZONE
TZID:America/Phoenix
BEGIN:STANDARD
TZNAME:MST
DTSTART:20240720T181655
TZOFFSETFROM:+0000
TZOFFSETTO:-0700
END:STANDARD
END:VTIMEZONE
BEGIN:VEVENT
UID:20210908T160000MST-73716GmKos@https://lhsuiws.rapams.com/
DTSTAMP:20260421T181655Z
CATEGORIES:Rentals
DTSTART;TZID=America/Phoenix:20210908T160000
DTEND;TZID=America/Phoenix:20210908T190000
SUMMARY:Rental - Ticknor
URL:https://www.havasurealtors.com/this-week-calendar-menu/258-rentals/2823
 -rental-ticknor.html
END:VEVENT
END:VCALENDAR
