BEGIN:VCALENDAR
VERSION:2.0
PRODID:-//https://www.havasurealtors.com//NONSGML kigkonsult.se iCalcreator 2.41.71//
CALSCALE:GREGORIAN
METHOD:PUBLISH
UID:63656262-3139-4232-b161-396233633030
X-WR-CALNAME:JCal Pro Calendar
X-WR-CALDESC:Your online events calendar
X-WR-TIMEZONE:America/Phoenix
BEGIN:VTIMEZONE
TZID:America/Phoenix
BEGIN:STANDARD
TZNAME:MST
DTSTART:20240721T182105
TZOFFSETFROM:+0000
TZOFFSETTO:-0700
END:STANDARD
END:VTIMEZONE
BEGIN:VEVENT
UID:20221126T110000MST-5955GL5PS6@https://lhsuiws.rapams.com/
DTSTAMP:20260422T182105Z
CATEGORIES:Rentals
DTSTART;TZID=America/Phoenix:20221126T000000
DTEND;TZID=America/Phoenix:20221126T235959
SUMMARY:Rental - Gonzalez
URL:https://www.havasurealtors.com/this-week-calendar-menu/258-rentals/3445
 -rental-gonzalez.html
END:VEVENT
END:VCALENDAR
