BEGIN:VCALENDAR
VERSION:2.0
PRODID:-//https://www.havasurealtors.com//NONSGML kigkonsult.se iCalcreator 2.41.71//
CALSCALE:GREGORIAN
METHOD:PUBLISH
UID:36396366-3130-4635-a631-663361636562
X-WR-CALNAME:JCal Pro Calendar
X-WR-CALDESC:Your online events calendar
X-WR-TIMEZONE:America/Phoenix
BEGIN:VTIMEZONE
TZID:America/Phoenix
BEGIN:STANDARD
TZNAME:MST
DTSTART:20240722T052555
TZOFFSETFROM:+0000
TZOFFSETTO:-0700
END:STANDARD
END:VTIMEZONE
BEGIN:VEVENT
UID:20260418T080000UTC-4842dOw106@https://havasurealtors.com/
DTSTAMP:20260423T052555Z
CATEGORIES:Rentals
DTSTART;TZID=America/Phoenix:20260418T000000
DTEND;TZID=America/Phoenix:20260418T235959
SUMMARY:Rental (Tenney)
URL:https://www.havasurealtors.com/this-week-calendar-menu/258-rentals/5310
 -rental-tenney.html
END:VEVENT
END:VCALENDAR
