BEGIN:VCALENDAR
VERSION:2.0
PRODID:-//https://www.havasurealtors.com//NONSGML kigkonsult.se iCalcreator 2.41.71//
CALSCALE:GREGORIAN
METHOD:PUBLISH
UID:30316230-3661-4566-b838-376361633630
X-WR-CALNAME:JCal Pro Calendar
X-WR-CALDESC:Your online events calendar
X-WR-TIMEZONE:America/Phoenix
BEGIN:VTIMEZONE
TZID:America/Phoenix
BEGIN:STANDARD
TZNAME:MST
DTSTART:20240721T093240
TZOFFSETFROM:+0000
TZOFFSETTO:-0700
END:STANDARD
END:VTIMEZONE
BEGIN:VEVENT
UID:20240809T084500UTC-0291jvsWVW@https://havasurealtors.com/
DTSTAMP:20260422T093240Z
CATEGORIES:Credited Classes
DESCRIPTION:<h2><span style='font-size: 14pt\;'>CRPM: How to Evict a Tenant
  Legally and Practical Applications (CE: 3 Legal Issues)</span></h2>\n<p c
 lass='label'>Date: Friday\, August 9th\, 2024</p>\n<p class='label'>Time: 
 08:45 am - 12:00 pm</p>\n<p class='label'>Location: Via ZOOM Direct to Mem
 ber (DTM)</p>\n<p class='label'>Type: CRPM</p>\n<p class='col-md-12'>Cost:
  REALTOR® Member - $20 Early / $40 Late | Non REALTOR® Member - $40 Early 
 | $60 Late</p>\n<p>&nbsp\; &nbsp\; &nbsp\; &nbsp\; &nbsp\; Early registrat
 ion runs thru 8/1 | Registration closes by midnight\, 8/5</p>\n<h5><em><st
 rong>ONLY 50 SEATS AVAILABLE...COMING SOON</strong>&nbsp\;| (Registrations
  open 30 days prior to class date)</em></h5>\n<p>C.E. Credits: 3 Legal Iss
 ues</p>\n<p>Instructor: Denise Holliday\, Esq.</p>\n<p class='col-md-12'>D
 escription:&nbsp\;</p>\n<p>Eventually\, every property manager will have t
 o evict a tenant. Learn how to do it properly and legally to reduce risk t
 o you.</p>\n<p class='col-md-12'>Designation Information</p>\n<p><strong><
 em>(Fulfills the Elective category for CRPM)</em></strong></p>\n<p><strong
 >CERTIFIED RESIDENTIAL PROPERTY MANAGER:</strong>&nbsp\;Arizona REALTORS® 
 certification program is dedicated to property management and offers class
 es that you can use for your real estate license renewal. This program was
  designed to hone your knowledge and skills in topics that relate to your 
 day to day business as a property manager. The curriculum was developed in
  concert with property management attorneys and longtime property manageme
 nt practitioners.&nbsp\;<strong>To learn more\, visit:</strong>&nbsp\;www.
 aaronline.com/increase-knowledge.</p>\n<p><em>*This certification program 
 is not affiliated with or endorsed by the National Association of REALTORS
 ®</em></p>\n<p><a href='https://www.aaronline.com/calendar/view-event/?id=
 1905' class='wf_file'>REGISTER HERE!!</a></p>
DTSTART;TZID=America/Phoenix:20240809T084500
DTEND;TZID=America/Phoenix:20240809T120000
SUMMARY:CRPM: How to Evict a Tenant Legally and Practical Applications (CE:
  3 Legal Issues)(AAR ZOOM DTM)
URL:https://www.havasurealtors.com/this-week-calendar-menu/259-education-cl
 asses/184-credited-classes-calendar-category/4431-crpm-how-to-evict-a-tena
 nt-legally-and-practical-applications-ce-3-legal-issues-aar-zoom-dtm.html
X-ALT-DESC;FMTTYPE=TEXT/HTML:<h2><span style='font-size: 14pt\;'>CRPM: How 
 to Evict a Tenant Legally and Practical Applications (CE: 3 Legal Issues)<
 /span></h2>\n<p class='label'>Date: Friday\, August 9th\, 2024</p>\n<p cla
 ss='label'>Time: 08:45 am - 12:00 pm</p>\n<p class='label'>Location: Via Z
 OOM Direct to Member (DTM)</p>\n<p class='label'>Type: CRPM</p>\n<p class=
 'col-md-12'>Cost: REALTOR® Member - $20 Early / $40 Late | Non REALTOR® Me
 mber - $40 Early | $60 Late</p>\n<p>&nbsp\; &nbsp\; &nbsp\; &nbsp\; &nbsp\
 ; Early registration runs thru 8/1 | Registration closes by midnight\, 8/5
 </p>\n<h5><em><strong>ONLY 50 SEATS AVAILABLE...COMING SOON</strong>&nbsp\
 ;| (Registrations open 30 days prior to class date)</em></h5>\n<p>C.E. Cre
 dits: 3 Legal Issues</p>\n<p>Instructor: Denise Holliday\, Esq.</p>\n<p cl
 ass='col-md-12'>Description:&nbsp\;</p>\n<p>Eventually\, every property ma
 nager will have to evict a tenant. Learn how to do it properly and legally
  to reduce risk to you.</p>\n<p class='col-md-12'>Designation Information<
 /p>\n<p><strong><em>(Fulfills the Elective category for CRPM)</em></strong
 ></p>\n<p><strong>CERTIFIED RESIDENTIAL PROPERTY MANAGER:</strong>&nbsp\;A
 rizona REALTORS® certification program is dedicated to property management
  and offers classes that you can use for your real estate license renewal.
  This program was designed to hone your knowledge and skills in topics tha
 t relate to your day to day business as a property manager. The curriculum
  was developed in concert with property management attorneys and longtime 
 property management practitioners.&nbsp\;<strong>To learn more\, visit:</s
 trong>&nbsp\;www.aaronline.com/increase-knowledge.</p>\n<p><em>*This certi
 fication program is not affiliated with or endorsed by the National Associ
 ation of REALTORS®</em></p>\n<p><a href='https://www.aaronline.com/calenda
 r/view-event/?id=1905' class='wf_file'>REGISTER HERE!!</a></p>
END:VEVENT
END:VCALENDAR
