BEGIN:VCALENDAR
VERSION:2.0
PRODID:-//https://www.havasurealtors.com//NONSGML kigkonsult.se iCalcreator 2.41.71//
CALSCALE:GREGORIAN
METHOD:PUBLISH
UID:63353563-3966-4462-b962-633361313439
X-WR-CALNAME:JCal Pro Calendar
X-WR-CALDESC:Your online events calendar
X-WR-TIMEZONE:America/Phoenix
BEGIN:VTIMEZONE
TZID:America/Phoenix
BEGIN:STANDARD
TZNAME:MST
DTSTART:20240724T011654
TZOFFSETFROM:+0000
TZOFFSETTO:-0700
END:STANDARD
END:VTIMEZONE
BEGIN:VEVENT
UID:20250923T090000UTC-1113tswC3S@https://havasurealtors.com/
DTSTAMP:20260425T011654Z
CATEGORIES:Credited Classes
DTSTART;TZID=America/Phoenix:20261117T090000
DTEND;TZID=America/Phoenix:20261117T160000
SUMMARY:New Member Contract Class
URL:https://www.havasurealtors.com/this-week-calendar-menu/259-education-cl
 asses/184-credited-classes-calendar-category/5094-new-member-contract-clas
 s.html
END:VEVENT
END:VCALENDAR
