BEGIN:VCALENDAR
VERSION:2.0
PRODID:-//https://www.havasurealtors.com//NONSGML kigkonsult.se iCalcreator 2.41.71//
CALSCALE:GREGORIAN
METHOD:PUBLISH
UID:37353936-3939-4339-b264-393464313038
X-WR-CALNAME:JCal Pro Calendar
X-WR-CALDESC:Your online events calendar
X-WR-TIMEZONE:America/Phoenix
BEGIN:VTIMEZONE
TZID:America/Phoenix
BEGIN:STANDARD
TZNAME:MST
DTSTART:20240720T182205
TZOFFSETFROM:+0000
TZOFFSETTO:-0700
END:STANDARD
END:VTIMEZONE
BEGIN:VEVENT
UID:20260326T085000UTC-8923tUtFJ4@https://havasurealtors.com/
DTSTAMP:20260421T182205Z
CATEGORIES:Credited Classes
DESCRIPTION:<p><strong>CE 3 Words: Disclose\, Disclose\, Disclose (CE: 3 Di
 sclosure) (AAR ZOOM)</strong></p>\n<p><strong>Early Registration</strong>&
 nbsp\;- $20 through 3/18/2026</p>\n<p><strong>Standard Registration after 
 3/18/2026</strong>&nbsp\;- $40</p>\n<p>*Registration closes 3/22/2026 by m
 idnight</p>\n<p><strong>Cancellation Policy:</strong>&nbsp\;Cancellations 
 received before&nbsp\;<strong>March 16</strong><strong>\, 2026\,</strong>&
 nbsp\;will receive a partial refund\, less a $10 admin fee. Cancellations 
 received after&nbsp\;<strong>March 16\, 2026</strong>\, are not eligible f
 or any refund.&nbsp\;<strong>No-shows forfeit all fees.</strong></p>\n<p><
 em><strong>ONLY 50 SEATS AVAILABLE..</strong></em></p>\n<p>Description</p>
 \n<p><strong>Focus of this class:</strong></p>\n<p>Inform and educate lice
 nsees about the parties' required disclosure obligations in a real estate 
 transaction\, including buyers\, sellers\, brokers &amp\; salespersons\, a
 nd explain how to avoid inadvertent non-disclosure to better protect the p
 ublic.</p>\n<p><a href='https://www.aaronline.com/events/register/?id=1225
 ' class='wf_file'>Register Here!</a></p>
DTSTART;TZID=America/Phoenix:20260326T085000
DTEND;TZID=America/Phoenix:20260326T120000
SUMMARY:CE 3 Words: Disclose\, Disclose\, Disclose (CE: 3 Disclosure) (AAR 
 ZOOM)
URL:https://www.havasurealtors.com/this-week-calendar-menu/259-education-cl
 asses/184-credited-classes-calendar-category/5296-ce-3-words-disclose-disc
 lose-disclose-ce-3-disclosure-aar-zoom.html
X-ALT-DESC;FMTTYPE=TEXT/HTML:<p><strong>CE 3 Words: Disclose\, Disclose\, D
 isclose (CE: 3 Disclosure) (AAR ZOOM)</strong></p>\n<p><strong>Early Regis
 tration</strong>&nbsp\;- $20 through 3/18/2026</p>\n<p><strong>Standard Re
 gistration after 3/18/2026</strong>&nbsp\;- $40</p>\n<p>*Registration clos
 es 3/22/2026 by midnight</p>\n<p><strong>Cancellation Policy:</strong>&nbs
 p\;Cancellations received before&nbsp\;<strong>March 16</strong><strong>\,
  2026\,</strong>&nbsp\;will receive a partial refund\, less a $10 admin fe
 e. Cancellations received after&nbsp\;<strong>March 16\, 2026</strong>\, a
 re not eligible for any refund.&nbsp\;<strong>No-shows forfeit all fees.</
 strong></p>\n<p><em><strong>ONLY 50 SEATS AVAILABLE..</strong></em></p>\n<
 p>Description</p>\n<p><strong>Focus of this class:</strong></p>\n<p>Inform
  and educate licensees about the parties' required disclosure obligations 
 in a real estate transaction\, including buyers\, sellers\, brokers &amp\;
  salespersons\, and explain how to avoid inadvertent non-disclosure to bet
 ter protect the public.</p>\n<p><a href='https://www.aaronline.com/events/
 register/?id=1225' class='wf_file'>Register Here!</a></p>
END:VEVENT
END:VCALENDAR
