BEGIN:VCALENDAR
VERSION:2.0
PRODID:-//https://www.havasurealtors.com//NONSGML kigkonsult.se iCalcreator 2.41.71//
CALSCALE:GREGORIAN
METHOD:PUBLISH
UID:34326630-3832-4130-b339-363435366464
X-WR-CALNAME:JCal Pro Calendar
X-WR-CALDESC:Your online events calendar
X-WR-TIMEZONE:America/Phoenix
BEGIN:VTIMEZONE
TZID:America/Phoenix
BEGIN:STANDARD
TZNAME:MST
DTSTART:20240722T104423
TZOFFSETFROM:+0000
TZOFFSETTO:-0700
END:STANDARD
END:VTIMEZONE
BEGIN:VEVENT
UID:20260108T090000UTC-7802vOEFuM@https://havasurealtors.com/
DTSTAMP:20260423T104423Z
CATEGORIES:Non-credited Classes
DTSTART;TZID=America/Phoenix:20260108T090000
DTEND;TZID=America/Phoenix:20260108T110000
SUMMARY:Flex MLS Training (New Member Requirement) (ZOOM)
URL:https://www.havasurealtors.com/this-week-calendar-menu/259-education-cl
 asses/185-non-credited-classes-calendar-category/5028-flex-mls-training-ne
 w-member-requirement.html
END:VEVENT
END:VCALENDAR
