BEGIN:VCALENDAR
VERSION:2.0
PRODID:-//https://www.havasurealtors.com//NONSGML kigkonsult.se iCalcreator 2.41.71//
CALSCALE:GREGORIAN
METHOD:PUBLISH
UID:36623466-6135-4462-b731-643163623163
X-WR-CALNAME:JCal Pro Calendar
X-WR-CALDESC:Your online events calendar
X-WR-TIMEZONE:America/Phoenix
BEGIN:VTIMEZONE
TZID:America/Phoenix
BEGIN:STANDARD
TZNAME:MST
DTSTART:20240718T204700
TZOFFSETFROM:+0000
TZOFFSETTO:-0700
END:STANDARD
END:VTIMEZONE
BEGIN:VEVENT
UID:20260108T090000UTC-7802vOEFuM@https://havasurealtors.com/
DTSTAMP:20260419T204700Z
CATEGORIES:Non-credited Classes
DTSTART;TZID=America/Phoenix:20260205T090000
DTEND;TZID=America/Phoenix:20260205T110000
SUMMARY:Flex MLS Training (New Member Requirement)
URL:https://www.havasurealtors.com/this-week-calendar-menu/259-education-cl
 asses/185-non-credited-classes-calendar-category/5100-flex-mls-training-ne
 w-member-requirement.html
END:VEVENT
END:VCALENDAR
