BEGIN:VCALENDAR
VERSION:2.0
PRODID:-//https://www.havasurealtors.com//NONSGML kigkonsult.se iCalcreator 2.41.71//
CALSCALE:GREGORIAN
METHOD:PUBLISH
UID:37313766-3632-4330-b433-346532626335
X-WR-CALNAME:JCal Pro Calendar
X-WR-CALDESC:Your online events calendar
X-WR-TIMEZONE:America/Phoenix
BEGIN:VTIMEZONE
TZID:America/Phoenix
BEGIN:STANDARD
TZNAME:MST
DTSTART:20240718T155516
TZOFFSETFROM:+0000
TZOFFSETTO:-0700
END:STANDARD
END:VTIMEZONE
BEGIN:VEVENT
UID:20260107T080000UTC-0024jSCSuu@https://havasurealtors.com/
DTSTAMP:20260419T155516Z
CATEGORIES:Orientation Classes
DTSTART;TZID=America/Phoenix:20260304T080000
DTEND;TZID=America/Phoenix:20260304T120000
SUMMARY:New Member Orientation & Tour
URL:https://www.havasurealtors.com/this-week-calendar-menu/259-education-cl
 asses/257-orientation-classes/5111-new-member-orientation-tour.html
END:VEVENT
END:VCALENDAR
