BEGIN:VCALENDAR
VERSION:2.0
PRODID:-//https://www.havasurealtors.com//NONSGML kigkonsult.se iCalcreator 2.41.71//
CALSCALE:GREGORIAN
METHOD:PUBLISH
UID:38646637-3862-4366-a330-393266626438
X-WR-CALNAME:JCal Pro Calendar
X-WR-CALDESC:Your online events calendar
X-WR-TIMEZONE:America/Phoenix
BEGIN:VTIMEZONE
TZID:America/Phoenix
BEGIN:STANDARD
TZNAME:MST
DTSTART:20240724T105103
TZOFFSETFROM:+0000
TZOFFSETTO:-0700
END:STANDARD
END:VTIMEZONE
BEGIN:VEVENT
UID:20260115T090000UTC-13935Z61so@https://havasurealtors.com/
DTSTAMP:20260425T105103Z
CATEGORIES:Orientation Classes
DTSTART;TZID=America/Phoenix:20260115T090000
DTEND;TZID=America/Phoenix:20260115T110000
SUMMARY:Flex MLS Training (New Member Requirement) (ZOOM)
URL:https://www.havasurealtors.com/this-week-calendar-menu/259-education-cl
 asses/257-orientation-classes/5162-flex-mls-training-new-member-requiremen
 t-zoom.html
END:VEVENT
END:VCALENDAR
