BEGIN:VCALENDAR
VERSION:2.0
PRODID:-//https://www.havasurealtors.com//NONSGML kigkonsult.se iCalcreator 2.41.71//
CALSCALE:GREGORIAN
METHOD:PUBLISH
UID:37303862-6561-4764-b961-666664613365
X-WR-CALNAME:JCal Pro Calendar
X-WR-CALDESC:Your online events calendar
X-WR-TIMEZONE:America/Phoenix
BEGIN:VTIMEZONE
TZID:America/Phoenix
BEGIN:STANDARD
TZNAME:MST
DTSTART:20240721T202616
TZOFFSETFROM:+0000
TZOFFSETTO:-0700
END:STANDARD
END:VTIMEZONE
BEGIN:VEVENT
UID:20231003T080000MST-60130hvoWK@https://lhsuiws.rapams.com/
DTSTAMP:20260422T202616Z
CATEGORIES:Professional Business & Development
DTSTART;TZID=America/Phoenix:20231003T080000
DTEND;TZID=America/Phoenix:20231005T080000
SUMMARY:CMLS 2023 Summit
URL:https://www.havasurealtors.com/this-week-calendar-menu/259-education-cl
 asses/3663-cmls-2023-summit.html
END:VEVENT
END:VCALENDAR
