BEGIN:VCALENDAR
VERSION:2.0
PRODID:-//https://www.havasurealtors.com//NONSGML kigkonsult.se iCalcreator 2.41.71//
CALSCALE:GREGORIAN
METHOD:PUBLISH
UID:35643336-3735-4239-b239-636530373134
X-WR-CALNAME:JCal Pro Calendar
X-WR-CALDESC:Your online events calendar
X-WR-TIMEZONE:America/Phoenix
BEGIN:VTIMEZONE
TZID:America/Phoenix
BEGIN:STANDARD
TZNAME:MST
DTSTART:20240722T082715
TZOFFSETFROM:+0000
TZOFFSETTO:-0700
END:STANDARD
END:VTIMEZONE
BEGIN:VEVENT
UID:20231110T160000UTC-32374CbKOw@https://havasurealtors.com/
DTSTAMP:20260423T082715Z
CATEGORIES:Rentals
DTSTART;TZID=America/Phoenix:20231110T160000
DTEND;TZID=America/Phoenix:20231111T235900
SUMMARY:Rental (Cuarao)
URL:https://www.havasurealtors.com/this-week-calendar-menu/258-rentals/3823
 -rental-cuarao.html
END:VEVENT
BEGIN:VEVENT
UID:20231110T150000MST-16845uELnU@https://lhsuiws.rapams.com/
DTSTAMP:20260423T082715Z
CATEGORIES:Events
DTSTART;TZID=America/Phoenix:20231110T170000
DTEND;TZID=America/Phoenix:20231110T200000
SUMMARY:Installation of 2024 Officers & Directors
URL:https://www.havasurealtors.com/this-week-calendar-menu/187-public-event
 s-calendar-category/3583-installation-of-2024-officers-directors.html
END:VEVENT
END:VCALENDAR
