BEGIN:VCALENDAR
VERSION:2.0
PRODID:-//https://www.havasurealtors.com//NONSGML kigkonsult.se iCalcreator 2.41.71//
CALSCALE:GREGORIAN
METHOD:PUBLISH
UID:62303238-6631-4237-b631-353439626339
X-WR-CALNAME:JCal Pro Calendar
X-WR-CALDESC:Your online events calendar
X-WR-TIMEZONE:America/Phoenix
BEGIN:VTIMEZONE
TZID:America/Phoenix
BEGIN:STANDARD
TZNAME:MST
DTSTART:20240722T153539
TZOFFSETFROM:+0000
TZOFFSETTO:-0700
END:STANDARD
END:VTIMEZONE
BEGIN:VEVENT
UID:20240429T103000UTC-8123s6JhMU@https://havasurealtors.com/
DTSTAMP:20260423T153539Z
CATEGORIES:Rentals
DTSTART;TZID=America/Phoenix:20240429T103000
DTEND;TZID=America/Phoenix:20240429T163000
SUMMARY:Rental (Realty One) (Classroom)
URL:https://www.havasurealtors.com/this-week-calendar-menu/258-rentals/4389
 -rental-dubick-classroom.html
END:VEVENT
END:VCALENDAR
