BEGIN:VCALENDAR
VERSION:2.0
PRODID:-//https://www.havasurealtors.com//NONSGML kigkonsult.se iCalcreator 2.41.71//
CALSCALE:GREGORIAN
METHOD:PUBLISH
UID:39363133-3536-4266-a664-643462356136
X-WR-CALNAME:JCal Pro Calendar
X-WR-CALDESC:Your online events calendar
X-WR-TIMEZONE:America/Phoenix
BEGIN:VTIMEZONE
TZID:America/Phoenix
BEGIN:STANDARD
TZNAME:MST
DTSTART:20240721T211625
TZOFFSETFROM:+0000
TZOFFSETTO:-0700
END:STANDARD
END:VTIMEZONE
BEGIN:VEVENT
UID:20240103T201500UTC-0255VwHvGL@https://havasurealtors.com/
DTSTAMP:20260422T211625Z
CATEGORIES:MLS Tour Meetings
DTSTART;TZID=America/Phoenix:20240703T081500
DTEND;TZID=America/Phoenix:20240703T084500
SUMMARY:Cancelled MLS Tour
URL:https://www.havasurealtors.com/this-week-calendar-menu/189-meetings-cal
 endar-category/193-mls-tour-meetings-calendar-category/4376-mls-tour-centr
 al-south-area.html
END:VEVENT
END:VCALENDAR
