BEGIN:VCALENDAR
VERSION:2.0
PRODID:-//https://www.havasurealtors.com//NONSGML kigkonsult.se iCalcreator 2.41.71//
CALSCALE:GREGORIAN
METHOD:PUBLISH
UID:62333737-3765-4531-a465-326462656565
X-WR-CALNAME:JCal Pro Calendar
X-WR-CALDESC:Your online events calendar
X-WR-TIMEZONE:America/Phoenix
BEGIN:VTIMEZONE
TZID:America/Phoenix
BEGIN:STANDARD
TZNAME:MST
DTSTART:20240718T210536
TZOFFSETFROM:+0000
TZOFFSETTO:-0700
END:STANDARD
END:VTIMEZONE
BEGIN:VEVENT
UID:20240731T101500UTC-81350DaK87@https://havasurealtors.com/
DTSTAMP:20260419T210536Z
CATEGORIES:Professional & Business Development
DTSTART;TZID=America/Phoenix:20240802T090000
DTEND;TZID=America/Phoenix:20240802T100000
SUMMARY:Credentials Committee
URL:https://www.havasurealtors.com/this-week-calendar-menu/189-meetings-cal
 endar-category/194-committee-meetings-calendar-cateogory/272-professional-
 business-development/4437-credentials-committee.html
END:VEVENT
END:VCALENDAR
