BEGIN:VCALENDAR
VERSION:2.0
PRODID:-//https://www.havasurealtors.com//NONSGML kigkonsult.se iCalcreator 2.41.71//
CALSCALE:GREGORIAN
METHOD:PUBLISH
UID:66353734-3336-4162-a265-643739353837
X-WR-CALNAME:JCal Pro Calendar
X-WR-CALDESC:Your online events calendar
X-WR-TIMEZONE:America/Phoenix
BEGIN:VTIMEZONE
TZID:America/Phoenix
BEGIN:STANDARD
TZNAME:MST
DTSTART:20240719T164438
TZOFFSETFROM:+0000
TZOFFSETTO:-0700
END:STANDARD
END:VTIMEZONE
BEGIN:VEVENT
UID:20240923T090000UTC-2668AxOU8f@https://havasurealtors.com/
DTSTAMP:20260420T164438Z
CATEGORIES:Meetings
DTSTART;TZID=America/Phoenix:20240923T090000
DTEND;TZID=America/Phoenix:20240925T090000
SUMMARY:CMLS
URL:https://www.havasurealtors.com/this-week-calendar-menu/189-meetings-cal
 endar-category/4494-cmls.html
END:VEVENT
END:VCALENDAR
