BEGIN:VCALENDAR
VERSION:2.0
PRODID:-//https://www.havasurealtors.com//NONSGML kigkonsult.se iCalcreator 2.41.71//
CALSCALE:GREGORIAN
METHOD:PUBLISH
UID:38373030-6131-4333-b264-306336656563
X-WR-CALNAME:JCal Pro Calendar
X-WR-CALDESC:Your online events calendar
X-WR-TIMEZONE:America/Phoenix
BEGIN:VTIMEZONE
TZID:America/Phoenix
BEGIN:STANDARD
TZNAME:MST
DTSTART:20240723T033148
TZOFFSETFROM:+0000
TZOFFSETTO:-0700
END:STANDARD
END:VTIMEZONE
BEGIN:VEVENT
UID:20250722T080000UTC-0306USzpkW@https://havasurealtors.com/
DTSTAMP:20260424T033148Z
CATEGORIES:Professional & Business Development
DTSTART;TZID=America/Phoenix:20250722T080000
DTEND;TZID=America/Phoenix:20250725T090000
SUMMARY:NAR GAD
URL:https://www.havasurealtors.com/this-week-calendar-menu/189-meetings-cal
 endar-category/194-committee-meetings-calendar-cateogory/272-professional-
 business-development/4727-nar-gad.html
END:VEVENT
BEGIN:VEVENT
UID:20250725T160000UTC-9505WbVEGX@https://havasurealtors.com/
DTSTAMP:20260424T033148Z
CATEGORIES:Rentals
DTSTART;TZID=America/Phoenix:20250725T160000
DTEND;TZID=America/Phoenix:20250726T235900
SUMMARY:Rental (Ruiz)
URL:https://www.havasurealtors.com/this-week-calendar-menu/258-rentals/4771
 -rental-ruiz.html
END:VEVENT
END:VCALENDAR
