BEGIN:VCALENDAR
VERSION:2.0
PRODID:-//https://www.havasurealtors.com//NONSGML kigkonsult.se iCalcreator 2.41.71//
CALSCALE:GREGORIAN
METHOD:PUBLISH
UID:32653731-6538-4436-b539-306335383464
X-WR-CALNAME:JCal Pro Calendar
X-WR-CALDESC:Your online events calendar
X-WR-TIMEZONE:America/Phoenix
BEGIN:VTIMEZONE
TZID:America/Phoenix
BEGIN:STANDARD
TZNAME:MST
DTSTART:20240723T073700
TZOFFSETFROM:+0000
TZOFFSETTO:-0700
END:STANDARD
END:VTIMEZONE
BEGIN:VEVENT
UID:20260307T120000UTC-6942boVLUV@https://havasurealtors.com/
DTSTAMP:20260424T073700Z
CATEGORIES:Rentals
DTSTART;TZID=America/Phoenix:20260307T000000
DTEND;TZID=America/Phoenix:20260307T235959
SUMMARY:Rental (Sharma)
URL:https://www.havasurealtors.com/this-week-calendar-menu/258-rentals/5233
 -rental-sharma.html
END:VEVENT
END:VCALENDAR
