BEGIN:VCALENDAR
VERSION:2.0
PRODID:-//https://www.havasurealtors.com//NONSGML kigkonsult.se iCalcreator 2.41.71//
CALSCALE:GREGORIAN
METHOD:PUBLISH
UID:31666632-3930-4634-a163-616165653532
X-WR-CALNAME:JCal Pro Calendar
X-WR-CALDESC:Your online events calendar
X-WR-TIMEZONE:America/Phoenix
BEGIN:VTIMEZONE
TZID:America/Phoenix
BEGIN:STANDARD
TZNAME:MST
DTSTART:20240725T012351
TZOFFSETFROM:+0000
TZOFFSETTO:-0700
END:STANDARD
END:VTIMEZONE
BEGIN:VEVENT
UID:20260123T090000UTC-2760IWjFNI@https://havasurealtors.com/
DTSTAMP:20260426T012351Z
CATEGORIES:Events
DTSTART;TZID=America/Phoenix:20260522T083000
DTEND;TZID=America/Phoenix:20260522T110000
SUMMARY:General Membership (BREAKFAST)
URL:https://www.havasurealtors.com/this-week-calendar-menu/187-public-event
 s-calendar-category/5228-general-membership-breakfast.html
END:VEVENT
BEGIN:VEVENT
UID:20260123T090000UTC-7664uCOwO7@https://havasurealtors.com/
DTSTAMP:20260426T012351Z
CATEGORIES:Events
DTSTART;TZID=America/Phoenix:20260522T090000
DTEND;TZID=America/Phoenix:20260522T110000
SUMMARY:General Membership (Meeting ONLY)
URL:https://www.havasurealtors.com/this-week-calendar-menu/187-public-event
 s-calendar-category/5231-general-membership-meeting.html
END:VEVENT
END:VCALENDAR
