BEGIN:VCALENDAR
VERSION:2.0
PRODID:-//https://www.havasurealtors.com//NONSGML kigkonsult.se iCalcreator 2.41.71//
CALSCALE:GREGORIAN
METHOD:PUBLISH
UID:33313436-3537-4034-b936-346331373063
X-WR-CALNAME:JCal Pro Calendar
X-WR-CALDESC:Your online events calendar
X-WR-TIMEZONE:America/Phoenix
BEGIN:VTIMEZONE
TZID:America/Phoenix
BEGIN:STANDARD
TZNAME:MST
DTSTART:20240723T122541
TZOFFSETFROM:+0000
TZOFFSETTO:-0700
END:STANDARD
END:VTIMEZONE
BEGIN:VEVENT
UID:20260613T090000UTC-4985NtKcI3@https://havasurealtors.com/
DTSTAMP:20260424T122541Z
CATEGORIES:Professional & Business Development
DTSTART;TZID=America/Phoenix:20260613T090000
DTEND;TZID=America/Phoenix:20260618T160000
SUMMARY:NAR Midyear Conference\, Washington\, D.C.
URL:https://www.havasurealtors.com/this-week-calendar-menu/189-meetings-cal
 endar-category/194-committee-meetings-calendar-cateogory/272-professional-
 business-development/5014-nar-midyear-conference-wash-dc.html
END:VEVENT
BEGIN:VEVENT
UID:20260107T081500UTC-0584WaCREV@https://havasurealtors.com/
DTSTAMP:20260424T122541Z
CATEGORIES:MLS Tour Meetings
DTSTART;TZID=America/Phoenix:20260617T083000
DTEND;TZID=America/Phoenix:20260617T083000
SUMMARY:Wednesday Market Mixer - North
URL:https://www.havasurealtors.com/this-week-calendar-menu/189-meetings-cal
 endar-category/193-mls-tour-meetings-calendar-category/4958-mls-tour-south
 -area.html
END:VEVENT
END:VCALENDAR
