BEGIN:VCALENDAR
VERSION:2.0
PRODID:-//https://www.havasurealtors.com//NONSGML kigkonsult.se iCalcreator 2.41.71//
CALSCALE:GREGORIAN
METHOD:PUBLISH
UID:34393832-3535-4530-a566-666434653963
X-WR-CALNAME:JCal Pro Calendar
X-WR-CALDESC:Your online events calendar
X-WR-TIMEZONE:America/Phoenix
BEGIN:VTIMEZONE
TZID:America/Phoenix
BEGIN:STANDARD
TZNAME:MST
DTSTART:20240720T171502
TZOFFSETFROM:+0000
TZOFFSETTO:-0700
END:STANDARD
END:VTIMEZONE
BEGIN:VEVENT
UID:20210510T090000MST-00125SFn8T@https://lhsuiws.rapams.com/
DTSTAMP:20260421T171502Z
CATEGORIES:Events
DTSTART;TZID=America/Phoenix:20210503T090000
DTEND;TZID=America/Phoenix:20210514T170000
SUMMARY:NAR Midyear Conference - Washington DC
URL:https://www.havasurealtors.com/todays-calendar-calendar-view/187-public
 -events-calendar-category/2219-nar-midyear-conference-washington-dc.html
END:VEVENT
END:VCALENDAR
