BEGIN:VCALENDAR
VERSION:2.0
PRODID:-//https://www.havasurealtors.com//NONSGML kigkonsult.se iCalcreator 2.41.71//
CALSCALE:GREGORIAN
METHOD:PUBLISH
UID:64373333-6263-4631-b765-643231623536
X-WR-CALNAME:JCal Pro Calendar
X-WR-CALDESC:Your online events calendar
X-WR-TIMEZONE:America/Phoenix
BEGIN:VTIMEZONE
TZID:America/Phoenix
BEGIN:STANDARD
TZNAME:MST
DTSTART:20240719T093013
TZOFFSETFROM:+0000
TZOFFSETTO:-0700
END:STANDARD
END:VTIMEZONE
BEGIN:VEVENT
UID:20220619T080000MST-5134UTZjOW@https://lhsuiws.rapams.com/
DTSTAMP:20260420T093013Z
CATEGORIES:Private Meetings
DTSTART;TZID=America/Phoenix:20220619T080000
DTEND;TZID=America/Phoenix:20220624T170000
SUMMARY:Accountant
URL:https://www.havasurealtors.com/todays-calendar-calendar-view/189-meetin
 gs-calendar-category/191-private-meetings-calendar-category/3239-accountan
 t.html
END:VEVENT
END:VCALENDAR
