BEGIN:VCALENDAR
VERSION:2.0
PRODID:-//https://www.havasurealtors.com//NONSGML kigkonsult.se iCalcreator 2.41.71//
CALSCALE:GREGORIAN
METHOD:PUBLISH
UID:38346536-3332-4337-b632-323762623137
X-WR-CALNAME:JCal Pro Calendar
X-WR-CALDESC:Your online events calendar
X-WR-TIMEZONE:America/Phoenix
BEGIN:VTIMEZONE
TZID:America/Phoenix
BEGIN:STANDARD
TZNAME:MST
DTSTART:20240720T031259
TZOFFSETFROM:+0000
TZOFFSETTO:-0700
END:STANDARD
END:VTIMEZONE
BEGIN:VEVENT
UID:20230107T140000MST-0965GUO3bU@https://lhsuiws.rapams.com/
DTSTAMP:20260421T031259Z
CATEGORIES:Rentals
DTSTART;TZID=America/Phoenix:20230107T000000
DTEND;TZID=America/Phoenix:20230107T235959
SUMMARY:Rental (Ochoa)
URL:https://www.havasurealtors.com/todays-calendar-calendar-view/258-rental
 s/3565-rental-ochoa.html
END:VEVENT
END:VCALENDAR
