BEGIN:VCALENDAR
VERSION:2.0
PRODID:-//https://www.havasurealtors.com//NONSGML kigkonsult.se iCalcreator 2.41.71//
CALSCALE:GREGORIAN
METHOD:PUBLISH
UID:62363864-6338-4238-b039-663435363232
X-WR-CALNAME:JCal Pro Calendar
X-WR-CALDESC:Your online events calendar
X-WR-TIMEZONE:America/Phoenix
BEGIN:VTIMEZONE
TZID:America/Phoenix
BEGIN:STANDARD
TZNAME:MST
DTSTART:20240723T151537
TZOFFSETFROM:+0000
TZOFFSETTO:-0700
END:STANDARD
END:VTIMEZONE
BEGIN:VEVENT
UID:20230103T100000MST-4145UVXnSe@https://lhsuiws.rapams.com/
DTSTAMP:20260424T151537Z
CATEGORIES:MLS Committee
DTSTART;TZID=America/Phoenix:20230207T100000
DTEND;TZID=America/Phoenix:20230207T110000
SUMMARY:MLS Committee Meeting
URL:https://www.havasurealtors.com/todays-calendar-calendar-view/189-meetin
 gs-calendar-category/194-committee-meetings-calendar-cateogory/271-multipl
 e-listing-service/3554-mls-committee-meeting.html
END:VEVENT
END:VCALENDAR
