BEGIN:VCALENDAR
VERSION:2.0
PRODID:-//https://www.havasurealtors.com//NONSGML kigkonsult.se iCalcreator 2.41.71//
CALSCALE:GREGORIAN
METHOD:PUBLISH
UID:64613433-3030-4432-a132-373732356464
X-WR-CALNAME:JCal Pro Calendar
X-WR-CALDESC:Your online events calendar
X-WR-TIMEZONE:America/Phoenix
BEGIN:VTIMEZONE
TZID:America/Phoenix
BEGIN:STANDARD
TZNAME:MST
DTSTART:20240725T002710
TZOFFSETFROM:+0000
TZOFFSETTO:-0700
END:STANDARD
END:VTIMEZONE
BEGIN:VEVENT
UID:20230327T080000MST-3116A3Gk6z@https://lhsuiws.rapams.com/
DTSTAMP:20260426T002710Z
CATEGORIES:Rentals
DTSTART;TZID=America/Phoenix:20230327T000000
DTEND;TZID=America/Phoenix:20230327T235959
SUMMARY:Rental (Blakk)
URL:https://www.havasurealtors.com/todays-calendar-calendar-view/258-rental
 s/3645-rental-blakk.html
END:VEVENT
END:VCALENDAR
