BEGIN:VCALENDAR
VERSION:2.0
PRODID:-//https://www.havasurealtors.com//NONSGML kigkonsult.se iCalcreator 2.41.71//
CALSCALE:GREGORIAN
METHOD:PUBLISH
UID:38306532-3033-4136-b761-303636323966
X-WR-CALNAME:JCal Pro Calendar
X-WR-CALDESC:Your online events calendar
X-WR-TIMEZONE:America/Phoenix
BEGIN:VTIMEZONE
TZID:America/Phoenix
BEGIN:STANDARD
TZNAME:MST
DTSTART:20240720T045200
TZOFFSETFROM:+0000
TZOFFSETTO:-0700
END:STANDARD
END:VTIMEZONE
BEGIN:VEVENT
UID:20231020T160000MST-6490H2lnIz@https://lhsuiws.rapams.com/
DTSTAMP:20260421T045200Z
CATEGORIES:Rentals
DTSTART;TZID=America/Phoenix:20231020T160000
DTEND;TZID=America/Phoenix:20231021T235900
SUMMARY:Rental (Jackson)
URL:https://www.havasurealtors.com/todays-calendar-calendar-view/258-rental
 s/3643-rental-jackson.html
END:VEVENT
END:VCALENDAR
