BEGIN:VCALENDAR
VERSION:2.0
PRODID:-//https://www.havasurealtors.com//NONSGML kigkonsult.se iCalcreator 2.41.71//
CALSCALE:GREGORIAN
METHOD:PUBLISH
UID:37626237-6537-4537-b064-386363656661
X-WR-CALNAME:JCal Pro Calendar
X-WR-CALDESC:Your online events calendar
X-WR-TIMEZONE:America/Phoenix
BEGIN:VTIMEZONE
TZID:America/Phoenix
BEGIN:STANDARD
TZNAME:MST
DTSTART:20240723T042134
TZOFFSETFROM:+0000
TZOFFSETTO:-0700
END:STANDARD
END:VTIMEZONE
BEGIN:VEVENT
UID:20220907T080000MST-8417naslse@https://lhsuiws.rapams.com/
DTSTAMP:20260424T042134Z
CATEGORIES:MLS Tour Meetings
DTSTART;TZID=America/Phoenix:20231025T081500
DTEND;TZID=America/Phoenix:20231025T091500
SUMMARY:MLS Tour - North & Central Area
URL:https://www.havasurealtors.com/todays-calendar-calendar-view/189-meetin
 gs-calendar-category/193-mls-tour-meetings-calendar-category/3344-mls-tour
 -south-area.html
END:VEVENT
BEGIN:VEVENT
UID:20230810T120000MST-0427fH6jZW@https://lhsuiws.rapams.com/
DTSTAMP:20260424T042134Z
CATEGORIES:Rentals
DTSTART;TZID=America/Phoenix:20231025T110000
DTEND;TZID=America/Phoenix:20231025T133000
SUMMARY:WCR Resource Meeting
URL:https://www.havasurealtors.com/todays-calendar-calendar-view/258-rental
 s/3779-wcr-resource-meeting.html
END:VEVENT
END:VCALENDAR
