BEGIN:VCALENDAR
VERSION:2.0
PRODID:-//https://www.havasurealtors.com//NONSGML kigkonsult.se iCalcreator 2.41.71//
CALSCALE:GREGORIAN
METHOD:PUBLISH
UID:62316463-6539-4233-b539-646663663064
X-WR-CALNAME:JCal Pro Calendar
X-WR-CALDESC:Your online events calendar
X-WR-TIMEZONE:America/Phoenix
BEGIN:VTIMEZONE
TZID:America/Phoenix
BEGIN:STANDARD
TZNAME:MST
DTSTART:20240722T160829
TZOFFSETFROM:+0000
TZOFFSETTO:-0700
END:STANDARD
END:VTIMEZONE
BEGIN:VEVENT
UID:20240116T090000UTC-3626R9odFl@https://havasurealtors.com/
DTSTAMP:20260423T160829Z
CATEGORIES:Board of Directors
DTSTART;TZID=America/Phoenix:20241015T090000
DTEND;TZID=America/Phoenix:20241015T100000
SUMMARY:Board of Directors Meeting
URL:https://www.havasurealtors.com/todays-calendar-calendar-view/189-meetin
 gs-calendar-category/194-committee-meetings-calendar-cateogory/268-board-o
 f-directors/4019-board-of-directors-meeting.html
END:VEVENT
BEGIN:VEVENT
UID:20240927T090000UTC-2444Jm4AVO@https://havasurealtors.com/
DTSTAMP:20260423T160829Z
CATEGORIES:Meetings
DTSTART;TZID=America/Phoenix:20241015T110000
DTEND;TZID=America/Phoenix:20241015T110000
SUMMARY:Party Planning Task Force Meeting
URL:https://www.havasurealtors.com/todays-calendar-calendar-view/189-meetin
 gs-calendar-category/4506-party-planning-task-force-meeting.html
END:VEVENT
END:VCALENDAR
