BEGIN:VCALENDAR
VERSION:2.0
PRODID:-//https://www.havasurealtors.com//NONSGML kigkonsult.se iCalcreator 2.41.71//
CALSCALE:GREGORIAN
METHOD:PUBLISH
UID:31393863-3263-4137-a238-376632313063
X-WR-CALNAME:JCal Pro Calendar
X-WR-CALDESC:Your online events calendar
X-WR-TIMEZONE:America/Phoenix
BEGIN:VTIMEZONE
TZID:America/Phoenix
BEGIN:STANDARD
TZNAME:MST
DTSTART:20240720T170612
TZOFFSETFROM:+0000
TZOFFSETTO:-0700
END:STANDARD
END:VTIMEZONE
BEGIN:VEVENT
UID:20240103T201500UTC-0255VwHvGL@https://havasurealtors.com/
DTSTAMP:20260421T170612Z
CATEGORIES:MLS Tour Meetings
DTSTART;TZID=America/Phoenix:20241023T081500
DTEND;TZID=America/Phoenix:20241023T084500
SUMMARY:MLS Tour -  North & Central Area
URL:https://www.havasurealtors.com/todays-calendar-calendar-view/189-meetin
 gs-calendar-category/193-mls-tour-meetings-calendar-category/4384-mls-tour
 -central-south-area.html
END:VEVENT
BEGIN:VEVENT
UID:20241023T110000UTC-09194Mge1o@https://havasurealtors.com/
DTSTAMP:20260421T170612Z
CATEGORIES:Rentals
DTSTART;TZID=America/Phoenix:20241023T110000
DTEND;TZID=America/Phoenix:20241023T150000
SUMMARY:Rental Meeting (Dubick)
URL:https://www.havasurealtors.com/todays-calendar-calendar-view/258-rental
 s/4497-rental-meeting-dubick.html
END:VEVENT
END:VCALENDAR
