BEGIN:VCALENDAR
VERSION:2.0
PRODID:-//https://www.havasurealtors.com//NONSGML kigkonsult.se iCalcreator 2.41.71//
CALSCALE:GREGORIAN
METHOD:PUBLISH
UID:63336164-6237-4264-a536-333832613061
X-WR-CALNAME:JCal Pro Calendar
X-WR-CALDESC:Your online events calendar
X-WR-TIMEZONE:America/Phoenix
BEGIN:VTIMEZONE
TZID:America/Phoenix
BEGIN:STANDARD
TZNAME:MST
DTSTART:20240720T141547
TZOFFSETFROM:+0000
TZOFFSETTO:-0700
END:STANDARD
END:VTIMEZONE
BEGIN:VEVENT
UID:20241025T160000UTC-3312CJfGOb@https://havasurealtors.com/
DTSTAMP:20260421T141547Z
CATEGORIES:Rentals
DTSTART;TZID=America/Phoenix:20241025T160000
DTEND;TZID=America/Phoenix:20241027T235900
SUMMARY:Rental ( Elizalde)
URL:https://www.havasurealtors.com/todays-calendar-calendar-view/258-rental
 s/4405-rental-elizalde.html
END:VEVENT
END:VCALENDAR
