BEGIN:VCALENDAR
VERSION:2.0
PRODID:-//https://www.havasurealtors.com//NONSGML kigkonsult.se iCalcreator 2.41.71//
CALSCALE:GREGORIAN
METHOD:PUBLISH
UID:64616437-3662-4232-a237-323365656539
X-WR-CALNAME:JCal Pro Calendar
X-WR-CALDESC:Your online events calendar
X-WR-TIMEZONE:America/Phoenix
BEGIN:VTIMEZONE
TZID:America/Phoenix
BEGIN:STANDARD
TZNAME:MST
DTSTART:20240722T132043
TZOFFSETFROM:+0000
TZOFFSETTO:-0700
END:STANDARD
END:VTIMEZONE
BEGIN:VEVENT
UID:20240909T170000UTC-6251l2mK3p@https://havasurealtors.com/
DTSTAMP:20260423T132043Z
CATEGORIES:Rentals
DTSTART;TZID=America/Phoenix:20241209T170000
DTEND;TZID=America/Phoenix:20241209T190000
SUMMARY:Rental (Balloon Fest)
URL:https://www.havasurealtors.com/todays-calendar-calendar-view/258-rental
 s/4457-rental-balloon-fest.html
END:VEVENT
END:VCALENDAR
