BEGIN:VCALENDAR
VERSION:2.0
PRODID:-//https://www.havasurealtors.com//NONSGML kigkonsult.se iCalcreator 2.41.71//
CALSCALE:GREGORIAN
METHOD:PUBLISH
UID:35306633-3062-4635-b461-383563323931
X-WR-CALNAME:JCal Pro Calendar
X-WR-CALDESC:Your online events calendar
X-WR-TIMEZONE:America/Phoenix
BEGIN:VTIMEZONE
TZID:America/Phoenix
BEGIN:STANDARD
TZNAME:MST
DTSTART:20240721T012717
TZOFFSETFROM:+0000
TZOFFSETTO:-0700
END:STANDARD
END:VTIMEZONE
BEGIN:VEVENT
UID:20250108T081500UTC-2430m0vCvc@https://havasurealtors.com/
DTSTAMP:20260422T012717Z
CATEGORIES:MLS Tour Meetings
DTSTART;TZID=America/Phoenix:20250108T081500
DTEND;TZID=America/Phoenix:20250108T084500
RRULE:FREQ=WEEKLY;UNTIL=20250409T070000Z;INTERVAL=2;BYDAY=WE
SUMMARY:MLS Tour - North & Central Area
URL:https://www.havasurealtors.com/todays-calendar-calendar-view/189-meetin
 gs-calendar-category/193-mls-tour-meetings-calendar-category/4615-mls-tour
 -north-central-area.html
END:VEVENT
BEGIN:VEVENT
UID:20250219T100000UTC-5099jsCzrC@https://havasurealtors.com/
DTSTAMP:20260422T012717Z
CATEGORIES:Non-credited Classes
DESCRIPTION:<h2>Broker to Broker Forum (Closed Forum/Open to Brokers/Manage
 rs ONLY) (CE: NONE)</h2>\n<p class='label'>Date: Wednesday\, February 19th
 \, 2025</p>\n<p class='label'>Time: 10:00 am - 11:30 am</p>\n<p class='lab
 el'>Location: Via ZOOM | Type: AAR Events</p>\n<p class='col-md-12'>Cost: 
 $Complimentary</p>\n<p class='col-md-12'>Description:&nbsp\;</p>\n<p>Join 
 Arizona REALTORS® for this month's Broker to Broker Forum via ZOOM DTM (di
 rect to member).</p>\n<p>This monthly forum offers brokers/managers the op
 portunity to stay abreast of the hot topics and issues that are most impor
 tant and relevant to you\, as the leaders in your brokerages. This forum a
 llows you to pick the collective brains of fellow Arizona brokers.</p>\n<p
 ><em><strong>Guest Speakers:</strong></em></p>\n<p><em><strong>Rick Mack\,
  Esq. | Zelms Erlich Lenkov &amp\; Mack</strong></em></p>\n<p><em><strong>
 Lisa Paffrath | BHGRE Grand View North</strong></em></p>\n<p>Together\, we
  will build a stronger network of brokers throughout Arizona!</p>\n<p><a h
 ref='https://www.aaronline.com/calendar/view-event/?id=1994' class='wf_fil
 e'>Register Here!</a></p>
DTSTART;TZID=America/Phoenix:20250219T100000
DTEND;TZID=America/Phoenix:20250219T113000
SUMMARY:Broker to Broker Forum (Closed Forum/Open to Brokers/Managers ONLY)
  (CE: NONE) (AAR ZOOM)
URL:https://www.havasurealtors.com/todays-calendar-calendar-view/259-educat
 ion-classes/185-non-credited-classes-calendar-category/4761-broker-to-brok
 er-forum-closed-forum-open-to-brokers-managers-only-ce-none-aar-zoom.html
X-ALT-DESC;FMTTYPE=TEXT/HTML:<h2>Broker to Broker Forum (Closed Forum/Open 
 to Brokers/Managers ONLY) (CE: NONE)</h2>\n<p class='label'>Date: Wednesda
 y\, February 19th\, 2025</p>\n<p class='label'>Time: 10:00 am - 11:30 am</
 p>\n<p class='label'>Location: Via ZOOM | Type: AAR Events</p>\n<p class='
 col-md-12'>Cost: $Complimentary</p>\n<p class='col-md-12'>Description:&nbs
 p\;</p>\n<p>Join Arizona REALTORS® for this month's Broker to Broker Forum
  via ZOOM DTM (direct to member).</p>\n<p>This monthly forum offers broker
 s/managers the opportunity to stay abreast of the hot topics and issues th
 at are most important and relevant to you\, as the leaders in your brokera
 ges. This forum allows you to pick the collective brains of fellow Arizona
  brokers.</p>\n<p><em><strong>Guest Speakers:</strong></em></p>\n<p><em><s
 trong>Rick Mack\, Esq. | Zelms Erlich Lenkov &amp\; Mack</strong></em></p>
 \n<p><em><strong>Lisa Paffrath | BHGRE Grand View North</strong></em></p>
 \n<p>Together\, we will build a stronger network of brokers throughout Ari
 zona!</p>\n<p><a href='https://www.aaronline.com/calendar/view-event/?id=1
 994' class='wf_file'>Register Here!</a></p>
END:VEVENT
BEGIN:VEVENT
UID:20250219T120000UTC-2722UReMPn@https://havasurealtors.com/
DTSTAMP:20260422T012717Z
CATEGORIES:Rentals
DTSTART;TZID=America/Phoenix:20250219T120000
DTEND;TZID=America/Phoenix:20250219T160000
SUMMARY:Rental (Dubick)
URL:https://www.havasurealtors.com/todays-calendar-calendar-view/258-rental
 s/4755-rental-dubick.html
END:VEVENT
END:VCALENDAR
