BEGIN:VCALENDAR
VERSION:2.0
PRODID:-//https://www.havasurealtors.com//NONSGML kigkonsult.se iCalcreator 2.41.71//
CALSCALE:GREGORIAN
METHOD:PUBLISH
UID:38303630-3863-4364-a463-633934363836
X-WR-CALNAME:JCal Pro Calendar
X-WR-CALDESC:Your online events calendar
X-WR-TIMEZONE:America/Phoenix
BEGIN:VTIMEZONE
TZID:America/Phoenix
BEGIN:STANDARD
TZNAME:MST
DTSTART:20240721T131410
TZOFFSETFROM:+0000
TZOFFSETTO:-0700
END:STANDARD
END:VTIMEZONE
BEGIN:VEVENT
UID:20250310T080000UTC-0848LB3VUh@https://havasurealtors.com/
DTSTAMP:20260422T131410Z
CATEGORIES:Meetings
DTSTART;TZID=America/Phoenix:20250310T080000
DTEND;TZID=America/Phoenix:20250312T080000
SUMMARY:AAR Spring Conference
URL:https://www.havasurealtors.com/todays-calendar-calendar-view/189-meetin
 gs-calendar-category/4724-aar-spring-conference.html
END:VEVENT
BEGIN:VEVENT
UID:20250114T090000UTC-3165KXbBov@https://havasurealtors.com/
DTSTAMP:20260422T131410Z
CATEGORIES:Credited Classes
DTSTART;TZID=America/Phoenix:20250311T090000
DTEND;TZID=America/Phoenix:20250311T160000
SUMMARY:New Member Contract Class
URL:https://www.havasurealtors.com/todays-calendar-calendar-view/259-educat
 ion-classes/184-credited-classes-calendar-category/4477-new-member-contrac
 t-class.html
END:VEVENT
BEGIN:VEVENT
UID:20250107T080000UTC-7004iVUnv0@https://havasurealtors.com/
DTSTAMP:20260422T131410Z
CATEGORIES:Board of Directors
DTSTART;TZID=America/Phoenix:20250107T090000
DTEND;TZID=America/Phoenix:20250107T100000
RRULE:FREQ=MONTHLY;COUNT=12;INTERVAL=1;BYDAY=TU;BYSETPOS=2
SUMMARY:Executive Committee Meeting
URL:https://www.havasurealtors.com/todays-calendar-calendar-view/189-meetin
 gs-calendar-category/194-committee-meetings-calendar-cateogory/268-board-o
 f-directors/4677-executive-committee-meeting.html
END:VEVENT
END:VCALENDAR
