BEGIN:VCALENDAR
VERSION:2.0
PRODID:-//https://www.havasurealtors.com//NONSGML kigkonsult.se iCalcreator 2.41.71//
CALSCALE:GREGORIAN
METHOD:PUBLISH
UID:64326537-3162-4038-b063-383265666566
X-WR-CALNAME:JCal Pro Calendar
X-WR-CALDESC:Your online events calendar
X-WR-TIMEZONE:America/Phoenix
BEGIN:VTIMEZONE
TZID:America/Phoenix
BEGIN:STANDARD
TZNAME:MST
DTSTART:20240722T044644
TZOFFSETFROM:+0000
TZOFFSETTO:-0700
END:STANDARD
END:VTIMEZONE
BEGIN:VEVENT
UID:20250509T085000UTC-15727VJiVf@https://havasurealtors.com/
DTSTAMP:20260423T044644Z
CATEGORIES:Credited Classes
DESCRIPTION:<h2>CE Deed Fraud\, Arizona Water\, Firewise (CE: 3 General) - 
 Contact AAR for More Information</h2>\n<p class='label'>Date: Friday\, May
  9th\, 2025</p>\n<p class='label'>Time: 08:50 am - 12:00 pm</p>\n<p class=
 'label'>Location: Via ZOOM - Arizona REALTORS®</p>\n<p class='label'>Type:
  AAR Classes</p>\n<p class='col-md-12'>Cost:&nbsp\;<em>REALTOR® Member - $
 20 through 5/2/25 | $40 after |&nbsp\;</em><em>Non REALTOR® Member - $40 t
 hrough 5/2/25 | $60 after</em></p>\n<p><em>*Registration closes 5/5/2025 b
 y midnight</em></p>\n<p><em><strong>Cancellation Policy:</strong>&nbsp\;Ca
 ncellations received before&nbsp\;<strong>April 29</strong><strong>\, 2025
 \,</strong>&nbsp\;will receive a partial refund\, less a $10 admin fee. Ca
 ncellations received after&nbsp\;<strong>April 29\, 2025</strong>\, are no
 t eligible for any refund.&nbsp\;<strong>No-shows forfeit all fees.</stron
 g></em></p>\n<p><em><strong>ONLY 50 SEATS AVAILABLE...</strong></em></p>\n
 <p class='cost'>C.E. Credits: 3 Hours General</p>\n<p class='cost'>Instruc
 tor: Dena Greenawalt</p>\n<p class='col-md-12'>Description</p>\n<p>Develop
  a comprehensive understanding of the critical importance of effectively c
 ommunicating relevant information about Deed Fraud\, Arizona Water\, and F
 irewise practices with buyers\, sellers\, and clients.</p>\n<p><em>This co
 urse meets all three of the new ADRE required courses. Starting January 1\
 , 2025\, you will need to complete one hour of General CE credit each of D
 eed Fraud\, Water\, and Firewise to renew your Arizona real estate license
 .</em></p>\n<p class='col-md-12'>LocationVia ZOOM - Arizona REALTORS®</p>
 \n<p><a href='https://www.aaronline.com/calendar/view-event/?id=2100' clas
 s='wf_file'>REGISTER HERE! </a></p>
DTSTART;TZID=America/Phoenix:20250509T085000
DTEND;TZID=America/Phoenix:20250509T120000
SUMMARY:CE Deed Fraud\, Arizona Water\, Firewise (CE: 3 General) - AAR ZOOM
URL:https://www.havasurealtors.com/todays-calendar-calendar-view/259-educat
 ion-classes/184-credited-classes-calendar-category/4849-ce-deed-fraud-ariz
 ona-water-firewise-ce-3-general-aar-zoom.html
X-ALT-DESC;FMTTYPE=TEXT/HTML:<h2>CE Deed Fraud\, Arizona Water\, Firewise (
 CE: 3 General) - Contact AAR for More Information</h2>\n<p class='label'>D
 ate: Friday\, May 9th\, 2025</p>\n<p class='label'>Time: 08:50 am - 12:00 
 pm</p>\n<p class='label'>Location: Via ZOOM - Arizona REALTORS®</p>\n<p cl
 ass='label'>Type: AAR Classes</p>\n<p class='col-md-12'>Cost:&nbsp\;<em>RE
 ALTOR® Member - $20 through 5/2/25 | $40 after |&nbsp\;</em><em>Non REALTO
 R® Member - $40 through 5/2/25 | $60 after</em></p>\n<p><em>*Registration 
 closes 5/5/2025 by midnight</em></p>\n<p><em><strong>Cancellation Policy:<
 /strong>&nbsp\;Cancellations received before&nbsp\;<strong>April 29</stron
 g><strong>\, 2025\,</strong>&nbsp\;will receive a partial refund\, less a 
 $10 admin fee. Cancellations received after&nbsp\;<strong>April 29\, 2025<
 /strong>\, are not eligible for any refund.&nbsp\;<strong>No-shows forfeit
  all fees.</strong></em></p>\n<p><em><strong>ONLY 50 SEATS AVAILABLE...</s
 trong></em></p>\n<p class='cost'>C.E. Credits: 3 Hours General</p>\n<p cla
 ss='cost'>Instructor: Dena Greenawalt</p>\n<p class='col-md-12'>Descriptio
 n</p>\n<p>Develop a comprehensive understanding of the critical importance
  of effectively communicating relevant information about Deed Fraud\, Ariz
 ona Water\, and Firewise practices with buyers\, sellers\, and clients.</p
 >\n<p><em>This course meets all three of the new ADRE required courses. St
 arting January 1\, 2025\, you will need to complete one hour of General CE
  credit each of Deed Fraud\, Water\, and Firewise to renew your Arizona re
 al estate license.</em></p>\n<p class='col-md-12'>LocationVia ZOOM - Arizo
 na REALTORS®</p>\n<p><a href='https://www.aaronline.com/calendar/view-even
 t/?id=2100' class='wf_file'>REGISTER HERE! </a></p>
END:VEVENT
END:VCALENDAR
