BEGIN:VCALENDAR
VERSION:2.0
PRODID:-//https://www.havasurealtors.com//NONSGML kigkonsult.se iCalcreator 2.41.71//
CALSCALE:GREGORIAN
METHOD:PUBLISH
UID:33613266-3864-4432-a166-386333383462
X-WR-CALNAME:JCal Pro Calendar
X-WR-CALDESC:Your online events calendar
X-WR-TIMEZONE:America/Phoenix
BEGIN:VTIMEZONE
TZID:America/Phoenix
BEGIN:STANDARD
TZNAME:MST
DTSTART:20240721T000340
TZOFFSETFROM:+0000
TZOFFSETTO:-0700
END:STANDARD
END:VTIMEZONE
BEGIN:VEVENT
UID:20250705T140000UTC-5709UK35g1@https://havasurealtors.com/
DTSTAMP:20260422T000340Z
CATEGORIES:Rentals
DTSTART;TZID=America/Phoenix:20250705T000000
DTEND;TZID=America/Phoenix:20250705T235959
SUMMARY:Rental (Rizo)
URL:https://www.havasurealtors.com/todays-calendar-calendar-view/258-rental
 s/4868-rental-rizo.html
END:VEVENT
END:VCALENDAR
