BEGIN:VCALENDAR
VERSION:2.0
PRODID:-//https://www.havasurealtors.com//NONSGML kigkonsult.se iCalcreator 2.41.71//
CALSCALE:GREGORIAN
METHOD:PUBLISH
UID:38376634-6438-4138-b266-666635396235
X-WR-CALNAME:JCal Pro Calendar
X-WR-CALDESC:Your online events calendar
X-WR-TIMEZONE:America/Phoenix
BEGIN:VTIMEZONE
TZID:America/Phoenix
BEGIN:STANDARD
TZNAME:MST
DTSTART:20240720T124715
TZOFFSETFROM:+0000
TZOFFSETTO:-0700
END:STANDARD
END:VTIMEZONE
BEGIN:VEVENT
UID:20250923T083000UTC-4662agee4V@https://havasurealtors.com/
DTSTAMP:20260421T124715Z
CATEGORIES:Credited Classes
DESCRIPTION:<p class='printfriendly pf-button pf-alignleft'><span style='fo
 nt-size: 18pt\;'>GRI: Risk Management (CE: 3 Commissioner's Standards / 3 
 Disclosure / 3 Fair Housing / 5 Legal Issues)</span></p>\n<p class='label'
 >Date: Tuesday\, September 23rd\, 2025 |Wednesday\, September 24th\, 2025 
 ( 2 DAY EVENT )</p>\n<p class='label'>Time: 08:30 am - 04:00 pm |08:00 am 
 - 04:00 pm</p>\n<p class='label'>Location: Via ZOOM - WeSERV</p>\n<p class
 ='label'>Type: GRI</p>\n<p class='col-md-12'>Cost: $$ Contact WeSERV for r
 egistration questions: <a href='https://weserv.realtor/'>https://weserv.re
 altor/</a></p>\n<p class='col-md-12'>Description</p>\n<p>Risk management c
 an affect your bottom line. Protect yourself and your broker from risk and
  learn how to identify negligent behavior and misrepresentation that could
  lead to lawsuits and complaints.</p>\n<p class='col-md-12'>Designation In
 formation</p>\n<p class='label'>Details</p>\n<p class='cost'>C.E. Credits:
  3 Commissioner's Standards / 3 Disclosure / 3 Fair Housing / 5 Legal Issu
 es<br />Instructor: Don Martin</p>\n<p><a href='https://www.aaronline.com/
 calendar/view-event/?id=2019' class='wf_file'>REGISTER HERE!!</a></p>
DTSTART;TZID=America/Phoenix:20250923T083000
DTEND;TZID=America/Phoenix:20250924T083000
SUMMARY:GRI: Risk Management via AAR ZOOM
URL:https://www.havasurealtors.com/todays-calendar-calendar-view/259-educat
 ion-classes/184-credited-classes-calendar-category/4907-gri-risk-managemen
 t-via-aar-zoom.html
X-ALT-DESC;FMTTYPE=TEXT/HTML:<p class='printfriendly pf-button pf-alignleft
 '><span style='font-size: 18pt\;'>GRI: Risk Management (CE: 3 Commissioner
 's Standards / 3 Disclosure / 3 Fair Housing / 5 Legal Issues)</span></p>
 \n<p class='label'>Date: Tuesday\, September 23rd\, 2025 |Wednesday\, Sept
 ember 24th\, 2025 ( 2 DAY EVENT )</p>\n<p class='label'>Time: 08:30 am - 0
 4:00 pm |08:00 am - 04:00 pm</p>\n<p class='label'>Location: Via ZOOM - We
 SERV</p>\n<p class='label'>Type: GRI</p>\n<p class='col-md-12'>Cost: $$ Co
 ntact WeSERV for registration questions: <a href='https://weserv.realtor/'
 >https://weserv.realtor/</a></p>\n<p class='col-md-12'>Description</p>\n<p
 >Risk management can affect your bottom line. Protect yourself and your br
 oker from risk and learn how to identify negligent behavior and misreprese
 ntation that could lead to lawsuits and complaints.</p>\n<p class='col-md-
 12'>Designation Information</p>\n<p class='label'>Details</p>\n<p class='c
 ost'>C.E. Credits: 3 Commissioner's Standards / 3 Disclosure / 3 Fair Hous
 ing / 5 Legal Issues<br />Instructor: Don Martin</p>\n<p><a href='https://
 www.aaronline.com/calendar/view-event/?id=2019' class='wf_file'>REGISTER H
 ERE!!</a></p>
END:VEVENT
BEGIN:VEVENT
UID:20250114T090000UTC-3165KXbBov@https://havasurealtors.com/
DTSTAMP:20260421T124715Z
CATEGORIES:Credited Classes
DTSTART;TZID=America/Phoenix:20250923T090000
DTEND;TZID=America/Phoenix:20250923T160000
SUMMARY:New Member Contract Class
URL:https://www.havasurealtors.com/todays-calendar-calendar-view/259-educat
 ion-classes/184-credited-classes-calendar-category/4480-new-member-contrac
 t-class.html
END:VEVENT
BEGIN:VEVENT
UID:20250923T090000UTC-67362M0Vv9@https://havasurealtors.com/
DTSTAMP:20260421T124715Z
CATEGORIES:Professional Business & Development
DTSTART;TZID=America/Phoenix:20250923T090000
DTEND;TZID=America/Phoenix:20250926T090000
SUMMARY:CMLS 2025
URL:https://www.havasurealtors.com/todays-calendar-calendar-view/259-educat
 ion-classes/4720-cmls-2025.html
END:VEVENT
END:VCALENDAR
