BEGIN:VCALENDAR
VERSION:2.0
PRODID:-//https://www.havasurealtors.com//NONSGML kigkonsult.se iCalcreator 2.41.71//
CALSCALE:GREGORIAN
METHOD:PUBLISH
UID:37616330-3664-4334-b061-646366353463
X-WR-CALNAME:JCal Pro Calendar
X-WR-CALDESC:Your online events calendar
X-WR-TIMEZONE:America/Phoenix
BEGIN:VTIMEZONE
TZID:America/Phoenix
BEGIN:STANDARD
TZNAME:MST
DTSTART:20240724T024635
TZOFFSETFROM:+0000
TZOFFSETTO:-0700
END:STANDARD
END:VTIMEZONE
BEGIN:VEVENT
UID:20230120T090000MST-3612P2bo2G@https://lhsuiws.rapams.com/
DTSTAMP:20260425T024635Z
CATEGORIES:Private Meetings
DTSTART;TZID=America/Phoenix:20230324T090000
DTEND;TZID=America/Phoenix:20230324T110000
SUMMARY:General Membership Meeting ONLY
URL:https://www.havasurealtors.com/todays-calendar-calendar-view/189-meetin
 gs-calendar-category/191-private-meetings-calendar-category/3419-general-m
 embership-meeting.html
END:VEVENT
END:VCALENDAR
