BEGIN:VCALENDAR
VERSION:2.0
PRODID:-//https://www.havasurealtors.com//NONSGML kigkonsult.se iCalcreator 2.41.71//
CALSCALE:GREGORIAN
METHOD:PUBLISH
UID:35623664-3538-4832-b463-663964623531
X-WR-CALNAME:JCal Pro Calendar
X-WR-CALDESC:Your online events calendar
X-WR-TIMEZONE:America/Phoenix
BEGIN:VTIMEZONE
TZID:America/Phoenix
BEGIN:STANDARD
TZNAME:MST
DTSTART:20240720T000145
TZOFFSETFROM:+0000
TZOFFSETTO:-0700
END:STANDARD
END:VTIMEZONE
BEGIN:VEVENT
UID:20230721T093000UTC-3399VU2bWc@https://havasurealtors.com/
DTSTAMP:20260421T000145Z
CATEGORIES:Private Meetings
DTSTART;TZID=America/Phoenix:20240920T083000
DTEND;TZID=America/Phoenix:20240920T103000
SUMMARY:Annual Membership Meeting - BREAKFAST
URL:https://www.havasurealtors.com/todays-calendar-calendar-view/189-meetin
 gs-calendar-category/191-private-meetings-calendar-category/4029-general-m
 embership-meeting-breakfast-2.html
END:VEVENT
END:VCALENDAR
