BEGIN:VCALENDAR
VERSION:2.0
PRODID:-//https://www.havasurealtors.com//NONSGML kigkonsult.se iCalcreator 2.41.71//
CALSCALE:GREGORIAN
METHOD:PUBLISH
UID:64326463-6230-4134-b937-323961313635
X-WR-CALNAME:JCal Pro Calendar
X-WR-CALDESC:Your online events calendar
X-WR-TIMEZONE:America/Phoenix
BEGIN:VTIMEZONE
TZID:America/Phoenix
BEGIN:STANDARD
TZNAME:MST
DTSTART:20240722T065555
TZOFFSETFROM:+0000
TZOFFSETTO:-0700
END:STANDARD
END:VTIMEZONE
BEGIN:VEVENT
UID:20210106T080000MST-6190VOUGtZ@https://lhsuiws.rapams.com/
DTSTAMP:20260423T065555Z
CATEGORIES:MLS Tour Meetings
DESCRIPTION:<p> We have 3 homes on Tour\, can't wait to see all of you at 8
 am at the LHAR Convention Center.</p>\n<p> </p>\n<p> </p>\n<p> </p>
DTSTART;TZID=America/Phoenix:20210428T080000
DTEND;TZID=America/Phoenix:20210428T090000
SUMMARY:MLS Tour - All Area's
URL:https://www.havasurealtors.com/todays-calendar-calendar-view/189-meetin
 gs-calendar-category/193-mls-tour-meetings-calendar-category/2582-mls-tour
 -all-area-s.html
X-ALT-DESC;FMTTYPE=TEXT/HTML:<p> We have 3 homes on Tour\, can't wait to se
 e all of you at 8am at the LHAR Convention Center.</p>\n<p> </p>\n<p> </p>
 \n<p> </p>
END:VEVENT
END:VCALENDAR
