BEGIN:VCALENDAR
VERSION:2.0
PRODID:-//https://www.havasurealtors.com//NONSGML kigkonsult.se iCalcreator 2.41.71//
CALSCALE:GREGORIAN
METHOD:PUBLISH
UID:31343639-3266-4765-b165-383736343231
X-WR-CALNAME:JCal Pro Calendar
X-WR-CALDESC:Your online events calendar
X-WR-TIMEZONE:America/Phoenix
BEGIN:VTIMEZONE
TZID:America/Phoenix
BEGIN:STANDARD
TZNAME:MST
DTSTART:20240719T045645
TZOFFSETFROM:+0000
TZOFFSETTO:-0700
END:STANDARD
END:VTIMEZONE
BEGIN:VEVENT
UID:20240814T090000UTC-23446vwhSR@https://havasurealtors.com/
DTSTAMP:20260420T045645Z
CATEGORIES:Committee Meetings
DTSTART;TZID=America/Phoenix:20240910T090000
DTEND;TZID=America/Phoenix:20240910T100000
SUMMARY:Executive Committee Meeting
URL:https://www.havasurealtors.com/todays-calendar-calendar-view/189-meetin
 gs-calendar-category/194-committee-meetings-calendar-cateogory/4226-execut
 ive-committee-meeting-2.html
END:VEVENT
END:VCALENDAR
