BEGIN:VCALENDAR
VERSION:2.0
PRODID:-//https://www.havasurealtors.com//NONSGML kigkonsult.se iCalcreator 2.41.71//
CALSCALE:GREGORIAN
METHOD:PUBLISH
UID:64336361-6466-4966-a434-393962373134
X-WR-CALNAME:JCal Pro Calendar
X-WR-CALDESC:Your online events calendar
X-WR-TIMEZONE:America/Phoenix
BEGIN:VTIMEZONE
TZID:America/Phoenix
BEGIN:STANDARD
TZNAME:MST
DTSTART:20240724T112031
TZOFFSETFROM:+0000
TZOFFSETTO:-0700
END:STANDARD
END:VTIMEZONE
BEGIN:VEVENT
UID:20241224T120000UTC-5090r92V0n@https://havasurealtors.com/
DTSTAMP:20260425T112031Z
CATEGORIES:Holidays
DTSTART;TZID=America/Phoenix:20251224T120000
DTEND;TZID=America/Phoenix:20251224T170000
SUMMARY:Association Office Closed At Noon - Christmas Observed
URL:https://www.havasurealtors.com/todays-calendar-calendar-view/196-holida
 ys-calendar-category/4739-association-office-closed-at-noon-christmas-obse
 rved-2.html
END:VEVENT
END:VCALENDAR
