BEGIN:VCALENDAR
VERSION:2.0
PRODID:-//https://www.havasurealtors.com//NONSGML kigkonsult.se iCalcreator 2.41.71//
CALSCALE:GREGORIAN
METHOD:PUBLISH
UID:35663434-3231-4631-b334-396663396435
X-WR-CALNAME:JCal Pro Calendar
X-WR-CALDESC:Your online events calendar
X-WR-TIMEZONE:America/Phoenix
BEGIN:VTIMEZONE
TZID:America/Phoenix
BEGIN:STANDARD
TZNAME:MST
DTSTART:20240724T185007
TZOFFSETFROM:+0000
TZOFFSETTO:-0700
END:STANDARD
END:VTIMEZONE
BEGIN:VEVENT
UID:20211103T080000MST-1876IxZvJl@https://lhsuiws.rapams.com/
DTSTAMP:20260425T185007Z
CATEGORIES:Rentals
DTSTART;TZID=America/Phoenix:20211103T080000
DTEND;TZID=America/Phoenix:20211103T170000
SUMMARY:Rental - HRMC
URL:https://www.havasurealtors.com/todays-calendar-calendar-view/258-rental
 s/2925-rental-hrmc.html
END:VEVENT
END:VCALENDAR
