BEGIN:VCALENDAR
VERSION:2.0
PRODID:-//https://www.havasurealtors.com//NONSGML kigkonsult.se iCalcreator 2.41.71//
CALSCALE:GREGORIAN
METHOD:PUBLISH
UID:65653639-6562-4366-b564-316564393330
X-WR-CALNAME:JCal Pro Calendar
X-WR-CALDESC:Your online events calendar
X-WR-TIMEZONE:America/Phoenix
BEGIN:VTIMEZONE
TZID:America/Phoenix
BEGIN:STANDARD
TZNAME:MST
DTSTART:20240721T092901
TZOFFSETFROM:+0000
TZOFFSETTO:-0700
END:STANDARD
END:VTIMEZONE
BEGIN:VEVENT
UID:20220618T100000MST-1078hKEwS6@https://lhsuiws.rapams.com/
DTSTAMP:20260422T092901Z
CATEGORIES:Rentals
DTSTART;TZID=America/Phoenix:20220618T000000
DTEND;TZID=America/Phoenix:20220618T235959
SUMMARY:Rental - Chavez
URL:https://www.havasurealtors.com/todays-calendar-calendar-view/258-rental
 s/3264-rental-chavez.html
END:VEVENT
END:VCALENDAR
