BEGIN:VCALENDAR
VERSION:2.0
PRODID:-//https://www.havasurealtors.com//NONSGML kigkonsult.se iCalcreator 2.41.71//
CALSCALE:GREGORIAN
METHOD:PUBLISH
UID:39656531-3636-4033-b364-373437623539
X-WR-CALNAME:JCal Pro Calendar
X-WR-CALDESC:Your online events calendar
X-WR-TIMEZONE:America/Phoenix
BEGIN:VTIMEZONE
TZID:America/Phoenix
BEGIN:STANDARD
TZNAME:MST
DTSTART:20240723T231826
TZOFFSETFROM:+0000
TZOFFSETTO:-0700
END:STANDARD
END:VTIMEZONE
BEGIN:VEVENT
UID:20230512T160000MST-3001URS9HW@https://lhsuiws.rapams.com/
DTSTAMP:20260424T231826Z
CATEGORIES:Rentals
DTSTART;TZID=America/Phoenix:20230512T160000
DTEND;TZID=America/Phoenix:20230513T235900
SUMMARY:Rental (Hernandez)
URL:https://www.havasurealtors.com/todays-calendar-calendar-view/258-rental
 s/3644-rental-hernandez.html
END:VEVENT
END:VCALENDAR
