BEGIN:VCALENDAR
VERSION:2.0
PRODID:-//https://www.havasurealtors.com//NONSGML kigkonsult.se iCalcreator 2.41.71//
CALSCALE:GREGORIAN
METHOD:PUBLISH
UID:38366539-3663-4166-b362-363264613730
X-WR-CALNAME:JCal Pro Calendar
X-WR-CALDESC:Your online events calendar
X-WR-TIMEZONE:America/Phoenix
BEGIN:VTIMEZONE
TZID:America/Phoenix
BEGIN:STANDARD
TZNAME:MST
DTSTART:20240721T151107
TZOFFSETFROM:+0000
TZOFFSETTO:-0700
END:STANDARD
END:VTIMEZONE
BEGIN:VEVENT
UID:20231002T160000UTC-2862bOXnm2@https://havasurealtors.com/
DTSTAMP:20260422T151108Z
CATEGORIES:Rentals
DTSTART;TZID=America/Phoenix:20240108T160000
DTEND;TZID=America/Phoenix:20240108T180000
SUMMARY:Rental (Havasu Balloon Festival)
URL:https://www.havasurealtors.com/todays-calendar-calendar-view/258-rental
 s/3832-rental-havasu-b.html
END:VEVENT
END:VCALENDAR
